View In:
ArcGIS JavaScript
ArcGIS Online Map Viewer
ArcGIS Earth
Service Description: FUEL_ID/landcover_label_tif
Name: FUEL_ID/landcover_label_tif
Description:
Single Fused Map Cache: false
Extent:
XMin: -117.55677201490342
YMin: 48.99905632994136
XMax: -115.72537664516895
YMax: 50.31957979759706
Spatial Reference: 4269
(4269)
LatestVCSWkid(0)
Initial Extent:
XMin: -117.55677201490342
YMin: 48.99905632994136
XMax: -115.72537664516895
YMax: 50.31957979759706
Spatial Reference: 4269
(4269)
LatestVCSWkid(0)
Full Extent:
XMin: -117.55677201490342
YMin: 48.99905632994136
XMax: -115.72537664516895
YMax: 50.31957979759706
Spatial Reference: 4269
(4269)
LatestVCSWkid(0)
Pixel Size X: 8.983152841195201E-5
Pixel Size Y: 8.983152841195218E-5
Band Count: 1
Pixel Type: S8
RasterFunction Infos: {"rasterFunctionInfos": [
{
"name": "landcover_try2",
"description": "fuel id",
"help": ""
},
{
"name": "None",
"description": "",
"help": ""
}
]}
Mensuration Capabilities: Basic
Inspection Capabilities:
Has Histograms: true
Has Colormap: false
Has Multi Dimensions : false
Rendering Rule:
Min Scale: 0
Max Scale: 0
Resampling: false
Copyright Text:
Service Data Type: esriImageServiceDataTypeGeneric
Min Values: 0
Max Values: 8
Mean Values: 1.8517695183236
Standard Deviation Values: 1.8835930657547
Object ID Field:
Fields:
None
Default Mosaic Method: Center
Allowed Mosaic Methods:
SortField:
SortValue: null
Mosaic Operator: First
Default Compression Quality: 75
Default Resampling Method: Nearest
Max Record Count: null
Max Image Height: 4100
Max Image Width: 15000
Max Download Image Count: null
Max Mosaic Image Count: null
Allow Raster Function: true
Allow Copy: true
Allow Analysis: true
Allow Compute TiePoints: false
Supports Statistics: false
Supports Advanced Queries: false
Use StandardizedQueries: true
Raster Type Infos:
Name: Raster Dataset
Description: Supports all ArcGIS Raster Datasets
Help:
Has Raster Attribute Table: true
Edit Fields Info: null
Ownership Based AccessControl For Rasters: null
Child Resources:
Info
Raster Attribute Table
Histograms
Statistics
Key Properties
Legend
Raster Function Infos
Supported Operations:
Export Image
Identify
Measure
Compute Histograms
Compute Statistics Histograms
Get Samples
Compute Class Statistics
Query Boundary
Compute Pixel Location
Compute Angles
Validate
Project