{
 "currentVersion": 11.3,
 "serviceDescription": "FUEL_ID/landcover_label_tif",
 "name": "FUEL_ID/landcover_label_tif",
 "description": "",
 "extent": {
  "xmin": -117.55677201490342,
  "ymin": 48.99905632994136,
  "xmax": -115.72537664516895,
  "ymax": 50.31957979759706,
  "spatialReference": {
   "wkid": 4269,
   "latestWkid": 4269
  }
 },
 "initialExtent": {
  "xmin": -117.55677201490342,
  "ymin": 48.99905632994136,
  "xmax": -115.72537664516895,
  "ymax": 50.31957979759706,
  "spatialReference": {
   "wkid": 4269,
   "latestWkid": 4269
  }
 },
 "fullExtent": {
  "xmin": -117.55677201490342,
  "ymin": 48.99905632994136,
  "xmax": -115.72537664516895,
  "ymax": 50.31957979759706,
  "spatialReference": {
   "wkid": 4269,
   "latestWkid": 4269
  }
 },
 "sortableFields": "",
 "bandCount": 1,
 "pixelType": "S8",
 "minValues": [
  0
 ],
 "maxValues": [
  8
 ],
 "meanValues": [
  1.8517695183236
 ],
 "stdvValues": [
  1.8835930657547
 ],
 "hasMultidimensions": false,
 "pixelSizeX": 8.983152841195201E-5,
 "pixelSizeY": 8.983152841195218E-5,
 "meanPixelSize": 9.999999999999995,
 "datasetFormat": "TIFF",
 "uncompressedSize": 299688900,
 "blockWidth": 256,
 "blockHeight": 256,
 "compressionType": "DEFLATE",
 "bandNames": [
  "label_mode"
 ],
 "allowCopy": true,
 "allowAnalysis": true,
 "itemAccess": false,
 "inspectionCapabilities": "",
 "noDataValue": -128,
 "noDataValues": [
  -128
 ],
 "minPixelSize": 0,
 "maxPixelSize": 0,
 "copyrightText": "",
 "serviceDataType": "esriImageServiceDataTypeGeneric",
 "serviceSourceType": "esriImageServiceSourceTypeDataset",
 "objectIdField": "",
 "fields": [],
 "capabilities": "Mensuration,Image,Metadata",
 "defaultMosaicMethod": "Center",
 "allowedMosaicMethods": "",
 "sortField": "",
 "sortValue": null,
 "sortAscending": true,
 "mosaicOperator": "First",
 "defaultCompressionQuality": 75,
 "defaultResamplingMethod": "Nearest",
 "maxImageHeight": 4100,
 "maxImageWidth": 15000,
 "allowRasterFunction": true,
 "rasterFunctionInfos": [
  {
   "name": "landcover_try2",
   "description": "fuel id",
   "help": ""
  },
  {
   "name": "None",
   "description": "",
   "help": ""
  }
 ],
 "rasterTypeInfos": [
  {
   "name": "Raster Dataset",
   "description": "Supports all ArcGIS Raster Datasets",
   "help": ""
  }
 ],
 "mensurationCapabilities": "Basic",
 "hasHistograms": true,
 "hasColormap": false,
 "hasRasterAttributeTable": true,
 "minScale": 0,
 "maxScale": 0,
 "exportTilesAllowed": false,
 "supportsStatistics": false,
 "supportsAdvancedQueries": false,
 "editFieldsInfo": null,
 "ownershipBasedAccessControlForRasters": null,
 "allowComputeTiePoints": false,
 "useStandardizedQueries": true,
 "advancedQueryCapabilities": {
  "useStandardizedQueries": true,
  "supportsStatistics": false,
  "supportsOrderBy": false,
  "supportsDistinct": false,
  "supportsPagination": false
 },
 "spatialReference": {
  "wkid": 4269,
  "latestWkid": 4269
 },
 "resampling": false
}
