View In:
ArcGIS JavaScript
ArcGIS Online Map Viewer
ArcGIS Earth
Service Description: FUEL_ID/federal30_prj
Name: FUEL_ID/federal30_prj
Description:
Single Fused Map Cache: false
Extent:
XMin: 4383408.492402228
YMin: 2253304.5589374793
XMax: 4495488.492402228
YMax: 2365354.5589374793
Spatial Reference: 0
(0)
LatestVCSWkid(0)
Initial Extent:
XMin: 4383408.492402228
YMin: 2253304.5589374793
XMax: 4495488.492402228
YMax: 2365354.5589374793
Spatial Reference: 0
(0)
LatestVCSWkid(0)
Full Extent:
XMin: 4383408.492402228
YMin: 2253304.5589374793
XMax: 4495488.492402228
YMax: 2365354.5589374793
Spatial Reference: 0
(0)
LatestVCSWkid(0)
Pixel Size X: 30.0
Pixel Size Y: 30.0
Band Count: 1
Pixel Type: S16
RasterFunction Infos: {"rasterFunctionInfos": [
{
"name": "FederalFBP",
"description": "fuel id\n",
"help": ""
},
{
"name": "None",
"description": "",
"help": ""
}
]}
Mensuration Capabilities: Basic
Inspection Capabilities:
Has Histograms: false
Has Colormap: false
Has Multi Dimensions : false
Rendering Rule:
Min Scale: 0
Max Scale: 0
Resampling: false
Copyright Text:
Service Data Type: esriImageServiceDataTypeThematic
Min Values: 2
Max Values: 675
Mean Values: 135.04192450800835
Standard Deviation Values: 219.85082929475846
Object ID Field:
Fields:
None
Default Mosaic Method: Center
Allowed Mosaic Methods:
SortField:
SortValue: null
Mosaic Operator: First
Default Compression Quality: 75
Default Resampling Method: Nearest
Max Record Count: null
Max Image Height: 4100
Max Image Width: 15000
Max Download Image Count: null
Max Mosaic Image Count: null
Allow Raster Function: true
Allow Copy: true
Allow Analysis: true
Allow Compute TiePoints: false
Supports Statistics: false
Supports Advanced Queries: false
Use StandardizedQueries: true
Raster Type Infos:
Name: Raster Dataset
Description: Supports all ArcGIS Raster Datasets
Help:
Has Raster Attribute Table: true
Edit Fields Info: null
Ownership Based AccessControl For Rasters: null
Child Resources:
Info
Raster Attribute Table
Statistics
Key Properties
Legend
Raster Function Infos
Supported Operations:
Export Image
Identify
Measure
Compute Histograms
Compute Statistics Histograms
Get Samples
Compute Class Statistics
Query Boundary
Compute Pixel Location
Compute Angles
Validate
Project