{
 "currentVersion": 11.3,
 "serviceDescription": "FUEL_ID/federal30_prj",
 "name": "FUEL_ID/federal30_prj",
 "description": "",
 "extent": {
  "xmin": 4383408.492402228,
  "ymin": 2253304.5589374793,
  "xmax": 4495488.492402228,
  "ymax": 2365354.5589374793,
  "spatialReference": {
   "wkt2": "PROJCRS[\"North_American_1983_CSRS_Lambert_Conformal_Conic\",BASEGEOGCRS[\"GCS_North_American_1983_CSRS\",DATUM[\"D_North_American_1983_CSRS\",ELLIPSOID[\"GRS_1980\",6378137.0,298.257222101,LENGTHUNIT[\"Meter\",1.0]]],PRIMEM[\"Greenwich\",0.0,ANGLEUNIT[\"Degree\",0.0174532925199433]],CS[ellipsoidal,2],ANGLEUNIT[\"Degree\",0.0174532925199433]],CONVERSION[\"Lambert_Conformal_Conic\",METHOD[\"Lambert_Conformal_Conic\"],PARAMETER[\"False_Easting\",6200000.0,LENGTHUNIT[\"Meter\",1.0]],PARAMETER[\"False_Northing\",3000000.0,LENGTHUNIT[\"Meter\",1.0]],PARAMETER[\"Central_Meridian\",-91.8666666666667,ANGLEUNIT[\"Degree\",0.0174532925199433]],PARAMETER[\"Standard_Parallel_1\",49.0,ANGLEUNIT[\"Degree\",0.0174532925199433]],PARAMETER[\"Standard_Parallel_2\",77.0,ANGLEUNIT[\"Degree\",0.0174532925199433]],PARAMETER[\"Latitude_Of_Origin\",63.390675,ANGLEUNIT[\"Degree\",0.0174532925199433]]],CS[Cartesian,2],AXIS[\"Easting (X)\",east,ORDER[1]],AXIS[\"Northing (Y)\",north,ORDER[2]],LENGTHUNIT[\"Meter\",1.0]]",
   "wkt": "PROJCS[\"North_American_1983_CSRS_Lambert_Conformal_Conic\",GEOGCS[\"GCS_North_American_1983_CSRS\",DATUM[\"D_North_American_1983_CSRS\",SPHEROID[\"GRS_1980\",6378137.0,298.257222101]],PRIMEM[\"Greenwich\",0.0],UNIT[\"Degree\",0.0174532925199433]],PROJECTION[\"Lambert_Conformal_Conic\"],PARAMETER[\"False_Easting\",6200000.0],PARAMETER[\"False_Northing\",3000000.0],PARAMETER[\"Central_Meridian\",-91.8666666666667],PARAMETER[\"Standard_Parallel_1\",49.0],PARAMETER[\"Standard_Parallel_2\",77.0],PARAMETER[\"Latitude_Of_Origin\",63.390675],UNIT[\"Meter\",1.0]]"
  }
 },
 "initialExtent": {
  "xmin": 4383408.492402228,
  "ymin": 2253304.5589374793,
  "xmax": 4495488.492402228,
  "ymax": 2365354.5589374793,
  "spatialReference": {
   "wkt2": "PROJCRS[\"North_American_1983_CSRS_Lambert_Conformal_Conic\",BASEGEOGCRS[\"GCS_North_American_1983_CSRS\",DATUM[\"D_North_American_1983_CSRS\",ELLIPSOID[\"GRS_1980\",6378137.0,298.257222101,LENGTHUNIT[\"Meter\",1.0]]],PRIMEM[\"Greenwich\",0.0,ANGLEUNIT[\"Degree\",0.0174532925199433]],CS[ellipsoidal,2],ANGLEUNIT[\"Degree\",0.0174532925199433]],CONVERSION[\"Lambert_Conformal_Conic\",METHOD[\"Lambert_Conformal_Conic\"],PARAMETER[\"False_Easting\",6200000.0,LENGTHUNIT[\"Meter\",1.0]],PARAMETER[\"False_Northing\",3000000.0,LENGTHUNIT[\"Meter\",1.0]],PARAMETER[\"Central_Meridian\",-91.8666666666667,ANGLEUNIT[\"Degree\",0.0174532925199433]],PARAMETER[\"Standard_Parallel_1\",49.0,ANGLEUNIT[\"Degree\",0.0174532925199433]],PARAMETER[\"Standard_Parallel_2\",77.0,ANGLEUNIT[\"Degree\",0.0174532925199433]],PARAMETER[\"Latitude_Of_Origin\",63.390675,ANGLEUNIT[\"Degree\",0.0174532925199433]]],CS[Cartesian,2],AXIS[\"Easting (X)\",east,ORDER[1]],AXIS[\"Northing (Y)\",north,ORDER[2]],LENGTHUNIT[\"Meter\",1.0]]",
   "wkt": "PROJCS[\"North_American_1983_CSRS_Lambert_Conformal_Conic\",GEOGCS[\"GCS_North_American_1983_CSRS\",DATUM[\"D_North_American_1983_CSRS\",SPHEROID[\"GRS_1980\",6378137.0,298.257222101]],PRIMEM[\"Greenwich\",0.0],UNIT[\"Degree\",0.0174532925199433]],PROJECTION[\"Lambert_Conformal_Conic\"],PARAMETER[\"False_Easting\",6200000.0],PARAMETER[\"False_Northing\",3000000.0],PARAMETER[\"Central_Meridian\",-91.8666666666667],PARAMETER[\"Standard_Parallel_1\",49.0],PARAMETER[\"Standard_Parallel_2\",77.0],PARAMETER[\"Latitude_Of_Origin\",63.390675],UNIT[\"Meter\",1.0]]"
  }
 },
 "fullExtent": {
  "xmin": 4383408.492402228,
  "ymin": 2253304.5589374793,
  "xmax": 4495488.492402228,
  "ymax": 2365354.5589374793,
  "spatialReference": {
   "wkt2": "PROJCRS[\"North_American_1983_CSRS_Lambert_Conformal_Conic\",BASEGEOGCRS[\"GCS_North_American_1983_CSRS\",DATUM[\"D_North_American_1983_CSRS\",ELLIPSOID[\"GRS_1980\",6378137.0,298.257222101,LENGTHUNIT[\"Meter\",1.0]]],PRIMEM[\"Greenwich\",0.0,ANGLEUNIT[\"Degree\",0.0174532925199433]],CS[ellipsoidal,2],ANGLEUNIT[\"Degree\",0.0174532925199433]],CONVERSION[\"Lambert_Conformal_Conic\",METHOD[\"Lambert_Conformal_Conic\"],PARAMETER[\"False_Easting\",6200000.0,LENGTHUNIT[\"Meter\",1.0]],PARAMETER[\"False_Northing\",3000000.0,LENGTHUNIT[\"Meter\",1.0]],PARAMETER[\"Central_Meridian\",-91.8666666666667,ANGLEUNIT[\"Degree\",0.0174532925199433]],PARAMETER[\"Standard_Parallel_1\",49.0,ANGLEUNIT[\"Degree\",0.0174532925199433]],PARAMETER[\"Standard_Parallel_2\",77.0,ANGLEUNIT[\"Degree\",0.0174532925199433]],PARAMETER[\"Latitude_Of_Origin\",63.390675,ANGLEUNIT[\"Degree\",0.0174532925199433]]],CS[Cartesian,2],AXIS[\"Easting (X)\",east,ORDER[1]],AXIS[\"Northing (Y)\",north,ORDER[2]],LENGTHUNIT[\"Meter\",1.0]]",
   "wkt": "PROJCS[\"North_American_1983_CSRS_Lambert_Conformal_Conic\",GEOGCS[\"GCS_North_American_1983_CSRS\",DATUM[\"D_North_American_1983_CSRS\",SPHEROID[\"GRS_1980\",6378137.0,298.257222101]],PRIMEM[\"Greenwich\",0.0],UNIT[\"Degree\",0.0174532925199433]],PROJECTION[\"Lambert_Conformal_Conic\"],PARAMETER[\"False_Easting\",6200000.0],PARAMETER[\"False_Northing\",3000000.0],PARAMETER[\"Central_Meridian\",-91.8666666666667],PARAMETER[\"Standard_Parallel_1\",49.0],PARAMETER[\"Standard_Parallel_2\",77.0],PARAMETER[\"Latitude_Of_Origin\",63.390675],UNIT[\"Meter\",1.0]]"
  }
 },
 "sortableFields": "",
 "bandCount": 1,
 "pixelType": "S16",
 "minValues": [
  2
 ],
 "maxValues": [
  675
 ],
 "meanValues": [
  135.04192450800835
 ],
 "stdvValues": [
  219.85082929475846
 ],
 "hasMultidimensions": false,
 "pixelSizeX": 30,
 "pixelSizeY": 30,
 "meanPixelSize": 30,
 "datasetFormat": "GRID",
 "uncompressedSize": 27907920,
 "blockWidth": 256,
 "blockHeight": 16,
 "compressionType": "RLE",
 "bandNames": [
  "federal30_prj"
 ],
 "allowCopy": true,
 "allowAnalysis": true,
 "itemAccess": false,
 "inspectionCapabilities": "",
 "noDataValue": -9999,
 "noDataValues": [
  -9999
 ],
 "minPixelSize": 0,
 "maxPixelSize": 0,
 "copyrightText": "",
 "serviceDataType": "esriImageServiceDataTypeThematic",
 "serviceSourceType": "esriImageServiceSourceTypeDataset",
 "objectIdField": "",
 "fields": [],
 "capabilities": "Mensuration,Image,Metadata",
 "defaultMosaicMethod": "Center",
 "allowedMosaicMethods": "",
 "sortField": "",
 "sortValue": null,
 "sortAscending": true,
 "mosaicOperator": "First",
 "defaultCompressionQuality": 75,
 "defaultResamplingMethod": "Nearest",
 "maxImageHeight": 4100,
 "maxImageWidth": 15000,
 "allowRasterFunction": true,
 "rasterFunctionInfos": [
  {
   "name": "FederalFBP",
   "description": "fuel id\n",
   "help": ""
  },
  {
   "name": "None",
   "description": "",
   "help": ""
  }
 ],
 "rasterTypeInfos": [
  {
   "name": "Raster Dataset",
   "description": "Supports all ArcGIS Raster Datasets",
   "help": ""
  }
 ],
 "mensurationCapabilities": "Basic",
 "hasHistograms": false,
 "hasColormap": false,
 "hasRasterAttributeTable": true,
 "minScale": 0,
 "maxScale": 0,
 "exportTilesAllowed": false,
 "supportsStatistics": false,
 "supportsAdvancedQueries": false,
 "editFieldsInfo": null,
 "ownershipBasedAccessControlForRasters": null,
 "allowComputeTiePoints": false,
 "useStandardizedQueries": true,
 "advancedQueryCapabilities": {
  "useStandardizedQueries": true,
  "supportsStatistics": false,
  "supportsOrderBy": false,
  "supportsDistinct": false,
  "supportsPagination": false
 },
 "spatialReference": {
  "wkt2": "PROJCRS[\"North_American_1983_CSRS_Lambert_Conformal_Conic\",BASEGEOGCRS[\"GCS_North_American_1983_CSRS\",DATUM[\"D_North_American_1983_CSRS\",ELLIPSOID[\"GRS_1980\",6378137.0,298.257222101,LENGTHUNIT[\"Meter\",1.0]]],PRIMEM[\"Greenwich\",0.0,ANGLEUNIT[\"Degree\",0.0174532925199433]],CS[ellipsoidal,2],ANGLEUNIT[\"Degree\",0.0174532925199433]],CONVERSION[\"Lambert_Conformal_Conic\",METHOD[\"Lambert_Conformal_Conic\"],PARAMETER[\"False_Easting\",6200000.0,LENGTHUNIT[\"Meter\",1.0]],PARAMETER[\"False_Northing\",3000000.0,LENGTHUNIT[\"Meter\",1.0]],PARAMETER[\"Central_Meridian\",-91.8666666666667,ANGLEUNIT[\"Degree\",0.0174532925199433]],PARAMETER[\"Standard_Parallel_1\",49.0,ANGLEUNIT[\"Degree\",0.0174532925199433]],PARAMETER[\"Standard_Parallel_2\",77.0,ANGLEUNIT[\"Degree\",0.0174532925199433]],PARAMETER[\"Latitude_Of_Origin\",63.390675,ANGLEUNIT[\"Degree\",0.0174532925199433]]],CS[Cartesian,2],AXIS[\"Easting (X)\",east,ORDER[1]],AXIS[\"Northing (Y)\",north,ORDER[2]],LENGTHUNIT[\"Meter\",1.0]]",
  "wkt": "PROJCS[\"North_American_1983_CSRS_Lambert_Conformal_Conic\",GEOGCS[\"GCS_North_American_1983_CSRS\",DATUM[\"D_North_American_1983_CSRS\",SPHEROID[\"GRS_1980\",6378137.0,298.257222101]],PRIMEM[\"Greenwich\",0.0],UNIT[\"Degree\",0.0174532925199433]],PROJECTION[\"Lambert_Conformal_Conic\"],PARAMETER[\"False_Easting\",6200000.0],PARAMETER[\"False_Northing\",3000000.0],PARAMETER[\"Central_Meridian\",-91.8666666666667],PARAMETER[\"Standard_Parallel_1\",49.0],PARAMETER[\"Standard_Parallel_2\",77.0],PARAMETER[\"Latitude_Of_Origin\",63.390675],UNIT[\"Meter\",1.0]]"
 },
 "resampling": false
}
