View In:
ArcGIS JavaScript
Forsite Maps Viewer
ArcGIS Earth
Service Description: HT_fuel_attribute
Name: HT_fuel_attribute
Description:
Single Fused Map Cache: false
Extent:
XMin: 4396004.999999996
YMin: 1770494.9999999902
XMax: 4478504.999999996
YMax: 1916994.9999999902
Spatial Reference: 3348
(3348)
LatestVCSWkid(0)
Initial Extent:
XMin: 4396004.999999996
YMin: 1770494.9999999902
XMax: 4478504.999999996
YMax: 1916994.9999999902
Spatial Reference: 3348
(3348)
LatestVCSWkid(0)
Full Extent:
XMin: 4396004.999999996
YMin: 1770494.9999999902
XMax: 4478504.999999996
YMax: 1916994.9999999902
Spatial Reference: 3348
(3348)
LatestVCSWkid(0)
Pixel Size X: 10.0
Pixel Size Y: 10.0
Band Count: 1
Pixel Type: F32
RasterFunction Infos: {"rasterFunctionInfos": [{
"name": "None",
"description": "",
"help": ""
}]}
Mensuration Capabilities: Basic
Inspection Capabilities:
Has Histograms: true
Has Colormap: false
Has Multi Dimensions : false
Rendering Rule:
Min Scale: 0
Max Scale: 0
Copyright Text:
Service Data Type: esriImageServiceDataTypeGeneric
Min Values: 0.0015955806011334
Max Values: 50
Mean Values: 21.688139743565
Standard Deviation Values: 11.018531533476
Object ID Field:
Fields:
None
Default Mosaic Method: Center
Allowed Mosaic Methods:
SortField:
SortValue: null
Mosaic Operator: First
Default Compression Quality: 75
Default Resampling Method: Bilinear
Max Record Count: null
Max Image Height: 4100
Max Image Width: 15000
Max Download Image Count: null
Max Mosaic Image Count: null
Allow Raster Function: true
Allow Copy: true
Allow Analysis: true
Allow Compute TiePoints: false
Supports Statistics: false
Supports Advanced Queries: false
Use StandardizedQueries: true
Raster Type Infos:
Name: Raster Dataset
Description: Supports all ArcGIS Raster Datasets
Help:
Has Raster Attribute Table: false
Edit Fields Info: null
Ownership Based AccessControl For Rasters: null
Child Resources:
Info
Histograms
Statistics
Key Properties
Legend
Raster Function Infos
Supported Operations:
Export Image
Identify
Measure
Compute Histograms
Compute Statistics Histograms
Get Samples
Compute Class Statistics
Query Boundary
Compute Pixel Location
Compute Angles
Validate
Project