View In:
ArcGIS JavaScript
ArcGIS Online Map Viewer
ArcGIS Earth
Service Description: Woodco_Ortho_10cm
Name: Woodco_Ortho_10cm
Description:
Single Fused Map Cache: false
Extent:
XMin: 699084.9886264635
YMin: 5673072.5204969905
XMax: 700349.5886264634
YMax: 5674368.12049699
Spatial Reference: 0
(0)
LatestVCSWkid(0)
Initial Extent:
XMin: 699084.9886264635
YMin: 5673072.5204969905
XMax: 700349.5886264634
YMax: 5674368.12049699
Spatial Reference: 0
(0)
LatestVCSWkid(0)
Full Extent:
XMin: 699084.9886264635
YMin: 5673072.5204969905
XMax: 700349.5886264634
YMax: 5674368.12049699
Spatial Reference: 0
(0)
LatestVCSWkid(0)
Pixel Size X: 0.09999999999999816
Pixel Size Y: 0.09999999999997125
Band Count: 4
Pixel Type: U8
RasterFunction Infos: {"rasterFunctionInfos": [
{
"name": "ORTHO10CM_TRY",
"description": "PLEASE WORK",
"help": ""
},
{
"name": "None",
"description": "",
"help": ""
}
]}
Mensuration Capabilities: Basic
Inspection Capabilities:
Has Histograms: true
Has Colormap: false
Has Multi Dimensions : false
Rendering Rule:
Min Scale: 0
Max Scale: 0
Resampling: false
Copyright Text:
Service Data Type: esriImageServiceDataTypeGeneric
Min Values: 0, 0, 0, 0
Max Values: 255, 255, 255, 255
Mean Values: 179.1064666455601, 173.7362718910858, 169.0965100152601, 130.21886932410854
Standard Deviation Values: 79.14855611969371, 83.67274644467241, 87.76437270069069, 127.47100787540917
Object ID Field:
Fields:
None
Default Mosaic Method: Center
Allowed Mosaic Methods:
SortField:
SortValue: null
Mosaic Operator: First
Default Compression Quality: 75
Default Resampling Method: Bilinear
Max Record Count: null
Max Image Height: 4100
Max Image Width: 15000
Max Download Image Count: null
Max Mosaic Image Count: null
Allow Raster Function: true
Allow Copy: true
Allow Analysis: true
Allow Compute TiePoints: false
Supports Statistics: false
Supports Advanced Queries: false
Use StandardizedQueries: true
Raster Type Infos:
Name: Raster Dataset
Description: Supports all ArcGIS Raster Datasets
Help:
Has Raster Attribute Table: false
Edit Fields Info: null
Ownership Based AccessControl For Rasters: null
Child Resources:
Info
Histograms
Statistics
Key Properties
Legend
Raster Function Infos
Supported Operations:
Export Image
Identify
Measure
Compute Histograms
Compute Statistics Histograms
Get Samples
Compute Class Statistics
Query Boundary
Compute Pixel Location
Compute Angles
Validate
Project