View In:
ArcGIS JavaScript
ArcGIS Online Map Viewer
ArcGIS Earth
Service Description: LoganLake/LewisWoodpecker_PotentialHabitat_UPDATE
Name: LoganLake/LewisWoodpecker_PotentialHabitat_UPDATE
Description:
Single Fused Map Cache: false
Extent:
XMin: 1363743.2077197395
YMin: 618043.5163799636
XMax: 1391958.2077197395
YMax: 636408.5163799636
Spatial Reference: 102190
(3005)
LatestVCSWkid(0)
Initial Extent:
XMin: 1363743.2077197395
YMin: 618043.5163799636
XMax: 1391958.2077197395
YMax: 636408.5163799636
Spatial Reference: 102190
(3005)
LatestVCSWkid(0)
Full Extent:
XMin: 1363743.2077197395
YMin: 618043.5163799636
XMax: 1391958.2077197395
YMax: 636408.5163799636
Spatial Reference: 102190
(3005)
LatestVCSWkid(0)
Pixel Size X: 5.0
Pixel Size Y: 5.0
Band Count: 1
Pixel Type: F32
RasterFunction Infos: {"rasterFunctionInfos": [
{
"name": "LewisWoodpecker_PotentialHabitat_UPDATE",
"description": "missing layer",
"help": ""
},
{
"name": "None",
"description": "",
"help": ""
}
]}
Mensuration Capabilities: Basic
Inspection Capabilities:
Has Histograms: true
Has Colormap: false
Has Multi Dimensions : false
Rendering Rule:
Min Scale: 0
Max Scale: 0
Resampling: false
Copyright Text:
Service Data Type: esriImageServiceDataTypeGeneric
Min Values: 0
Max Values: 2
Mean Values: 0.6766982761951548
Standard Deviation Values: 0.5438852580094414
Object ID Field:
Fields:
None
Default Mosaic Method: Center
Allowed Mosaic Methods:
SortField:
SortValue: null
Mosaic Operator: First
Default Compression Quality: 75
Default Resampling Method: Bilinear
Max Record Count: null
Max Image Height: 4100
Max Image Width: 15000
Max Download Image Count: null
Max Mosaic Image Count: null
Allow Raster Function: true
Allow Copy: true
Allow Analysis: true
Allow Compute TiePoints: false
Supports Statistics: false
Supports Advanced Queries: false
Use StandardizedQueries: true
Raster Type Infos:
Name: Raster Dataset
Description: Supports all ArcGIS Raster Datasets
Help:
Has Raster Attribute Table: false
Edit Fields Info: null
Ownership Based AccessControl For Rasters: null
Child Resources:
Info
Histograms
Statistics
Key Properties
Legend
Raster Function Infos
Supported Operations:
Export Image
Identify
Measure
Compute Histograms
Compute Statistics Histograms
Get Samples
Compute Class Statistics
Query Boundary
Compute Pixel Location
Compute Angles
Validate
Project