View In:
ArcGIS JavaScript
ArcGIS Online Map Viewer
ArcGIS Earth
Service Description: FUEL_ID/cfl_total_MergedTIF_tif
Name: FUEL_ID/cfl_total_MergedTIF_tif
Description:
Single Fused Map Cache: false
Extent:
XMin: 459481.0
YMin: 5425891.0
XMax: 595161.0
YMax: 5574371.0
Spatial Reference: 2153
(2955)
LatestVCSWkid(0)
Initial Extent:
XMin: 459481.0
YMin: 5425891.0
XMax: 595161.0
YMax: 5574371.0
Spatial Reference: 2153
(2955)
LatestVCSWkid(0)
Full Extent:
XMin: 459481.0
YMin: 5425891.0
XMax: 595161.0
YMax: 5574371.0
Spatial Reference: 2153
(2955)
LatestVCSWkid(0)
Pixel Size X: 10.0
Pixel Size Y: 10.0
Band Count: 1
Pixel Type: F32
RasterFunction Infos: {"rasterFunctionInfos": [
{
"name": "cfl",
"description": "fuel id\n",
"help": ""
},
{
"name": "None",
"description": "",
"help": ""
}
]}
Mensuration Capabilities: Basic
Inspection Capabilities:
Has Histograms: true
Has Colormap: false
Has Multi Dimensions : false
Rendering Rule:
Min Scale: 0
Max Scale: 0
Resampling: false
Copyright Text:
Service Data Type: esriImageServiceDataTypeGeneric
Min Values: 0
Max Values: 24.362756729126
Mean Values: 1.2500624454778
Standard Deviation Values: 0.42929563030694
Object ID Field:
Fields:
None
Default Mosaic Method: Center
Allowed Mosaic Methods:
SortField:
SortValue: null
Mosaic Operator: First
Default Compression Quality: 75
Default Resampling Method: Nearest
Max Record Count: null
Max Image Height: 4100
Max Image Width: 15000
Max Download Image Count: null
Max Mosaic Image Count: null
Allow Raster Function: true
Allow Copy: true
Allow Analysis: true
Allow Compute TiePoints: false
Supports Statistics: false
Supports Advanced Queries: false
Use StandardizedQueries: true
Raster Type Infos:
Name: Raster Dataset
Description: Supports all ArcGIS Raster Datasets
Help:
Has Raster Attribute Table: false
Edit Fields Info: null
Ownership Based AccessControl For Rasters: null
Child Resources:
Info
Histograms
Statistics
Key Properties
Legend
Raster Function Infos
Supported Operations:
Export Image
Identify
Measure
Compute Histograms
Compute Statistics Histograms
Get Samples
Compute Class Statistics
Query Boundary
Compute Pixel Location
Compute Angles
Validate
Project