View In:
ArcGIS JavaScript
ArcGIS Online Map Viewer
ArcGIS Earth
Service Description: FUEL_ID/Half4_AB_4388453_2360324_30mMaj_lg
Name: FUEL_ID/Half4_AB_4388453_2360324_30mMaj_lg
Description:
Single Fused Map Cache: false
Extent:
XMin: 4388453.280887693
YMin: 2258353.691787588
XMax: 4490423.280887693
YMax: 2360323.691787588
Spatial Reference: 0
(0)
LatestVCSWkid(0)
Initial Extent:
XMin: 4388453.280887693
YMin: 2258353.691787588
XMax: 4490423.280887693
YMax: 2360323.691787588
Spatial Reference: 0
(0)
LatestVCSWkid(0)
Full Extent:
XMin: 4388453.280887693
YMin: 2258353.691787588
XMax: 4490423.280887693
YMax: 2360323.691787588
Spatial Reference: 0
(0)
LatestVCSWkid(0)
Pixel Size X: 30.0
Pixel Size Y: 30.0
Band Count: 1
Pixel Type: U16
RasterFunction Infos: {"rasterFunctionInfos": [
{
"name": "None",
"description": "Make a Raster or Raster Dataset into a Function Raster Dataset.",
"help": ""
},
{
"name": "Half4_AB_4388453_2360324_30mMaj",
"description": "fuelid",
"help": ""
}
]}
Mensuration Capabilities: Basic
Inspection Capabilities:
Has Histograms: true
Has Colormap: false
Has Multi Dimensions : false
Rendering Rule:
Min Scale: 0
Max Scale: 0
Resampling: false
Copyright Text:
Service Data Type: esriImageServiceDataTypeGeneric
Min Values: 2
Max Values: 680
Mean Values: 53.63500783026323
Standard Deviation Values: 85.0025689044385
Object ID Field:
Fields:
None
Default Mosaic Method: Center
Allowed Mosaic Methods:
SortField:
SortValue: null
Mosaic Operator: First
Default Compression Quality: 75
Default Resampling Method: Majority
Max Record Count: null
Max Image Height: 4100
Max Image Width: 15000
Max Download Image Count: null
Max Mosaic Image Count: null
Allow Raster Function: true
Allow Copy: true
Allow Analysis: true
Allow Compute TiePoints: false
Supports Statistics: false
Supports Advanced Queries: false
Use StandardizedQueries: true
Raster Type Infos:
Name: Raster Dataset
Description: Supports all ArcGIS Raster Datasets
Help:
Has Raster Attribute Table: true
Edit Fields Info: null
Ownership Based AccessControl For Rasters: null
Child Resources:
Info
Raster Attribute Table
Histograms
Statistics
Key Properties
Legend
Raster Function Infos
Supported Operations:
Export Image
Identify
Measure
Compute Histograms
Compute Statistics Histograms
Get Samples
Compute Class Statistics
Query Boundary
Compute Pixel Location
Compute Angles
Validate
Project