View In:
ArcGIS JavaScript
ArcGIS Online Map Viewer
ArcGIS Earth
Service Description: FUEL_ID/AB_4488454_2360323_Update_tif
Name: FUEL_ID/AB_4488454_2360323_Update_tif
Description:
Single Fused Map Cache: false
Extent:
XMin: 4488454.347906666
YMin: 2258352.607130154
XMax: 4590424.347906666
YMax: 2360322.607130154
Spatial Reference: 0
(0)
LatestVCSWkid(0)
Initial Extent:
XMin: 4488454.347906666
YMin: 2258352.607130154
XMax: 4590424.347906666
YMax: 2360322.607130154
Spatial Reference: 0
(0)
LatestVCSWkid(0)
Full Extent:
XMin: 4488454.347906666
YMin: 2258352.607130154
XMax: 4590424.347906666
YMax: 2360322.607130154
Spatial Reference: 0
(0)
LatestVCSWkid(0)
Pixel Size X: 10.0
Pixel Size Y: 10.0
Band Count: 1
Pixel Type: F64
RasterFunction Infos: {"rasterFunctionInfos": [
{
"name": "res10m",
"description": "fuel id",
"help": ""
},
{
"name": "None",
"description": "",
"help": ""
}
]}
Mensuration Capabilities: Basic
Inspection Capabilities:
Has Histograms: true
Has Colormap: false
Has Multi Dimensions : false
Rendering Rule:
Min Scale: 0
Max Scale: 0
Resampling: false
Copyright Text:
Service Data Type: esriImageServiceDataTypeGeneric
Min Values: 2
Max Values: 680
Mean Values: 70.964198356713
Standard Deviation Values: 177.96609098621
Object ID Field:
Fields:
None
Default Mosaic Method: Center
Allowed Mosaic Methods:
SortField:
SortValue: null
Mosaic Operator: First
Default Compression Quality: 75
Default Resampling Method: Nearest
Max Record Count: null
Max Image Height: 4100
Max Image Width: 15000
Max Download Image Count: null
Max Mosaic Image Count: null
Allow Raster Function: true
Allow Copy: true
Allow Analysis: true
Allow Compute TiePoints: false
Supports Statistics: false
Supports Advanced Queries: false
Use StandardizedQueries: true
Raster Type Infos:
Name: Raster Dataset
Description: Supports all ArcGIS Raster Datasets
Help:
Has Raster Attribute Table: false
Edit Fields Info: null
Ownership Based AccessControl For Rasters: null
Child Resources:
Info
Histograms
Statistics
Key Properties
Legend
Raster Function Infos
Supported Operations:
Export Image
Identify
Measure
Compute Histograms
Compute Statistics Histograms
Get Samples
Compute Class Statistics
Query Boundary
Compute Pixel Location
Compute Angles
Validate
Project