View In:
ArcGIS JavaScript
ArcGIS Online Map Viewer
ArcGIS Earth
Service Description: 355-71/Woodco_Millsite_FullFeature_hillshade
Name: 355-71/Woodco_Millsite_FullFeature_hillshade
Description:
Single Fused Map Cache: false
Extent:
XMin: 699149.0083456204
YMin: 5673131.469564308
XMax: 700315.3083456204
YMax: 5674301.569564308
Spatial Reference: 26910
(26910)
LatestVCSWkid(0)
Initial Extent:
XMin: 699149.0083456204
YMin: 5673131.469564308
XMax: 700315.3083456204
YMax: 5674301.569564308
Spatial Reference: 26910
(26910)
LatestVCSWkid(0)
Full Extent:
XMin: 699149.0083456204
YMin: 5673131.469564308
XMax: 700315.3083456204
YMax: 5674301.569564308
Spatial Reference: 26910
(26910)
LatestVCSWkid(0)
Pixel Size X: 0.10000000000000399
Pixel Size Y: 0.09999999999996816
Band Count: 1
Pixel Type: U8
RasterFunction Infos: {"rasterFunctionInfos": [{
"name": "None",
"description": "",
"help": ""
}]}
Mensuration Capabilities: Basic
Inspection Capabilities:
Has Histograms: true
Has Colormap: false
Has Multi Dimensions : false
Rendering Rule:
Min Scale: 0
Max Scale: 0
Copyright Text:
Service Data Type: esriImageServiceDataTypeGeneric
Min Values: 0
Max Values: 254
Mean Values: 142.8211145158491
Standard Deviation Values: 70.47179636038652
Object ID Field:
Fields:
None
Default Mosaic Method: Center
Allowed Mosaic Methods:
SortField:
SortValue: null
Mosaic Operator: First
Default Compression Quality: 75
Default Resampling Method: Bilinear
Max Record Count: null
Max Image Height: 4100
Max Image Width: 15000
Max Download Image Count: null
Max Mosaic Image Count: null
Allow Raster Function: true
Allow Copy: true
Allow Analysis: true
Allow Compute TiePoints: false
Supports Statistics: false
Supports Advanced Queries: false
Use StandardizedQueries: true
Raster Type Infos:
Name: Raster Dataset
Description: Supports all ArcGIS Raster Datasets
Help:
Has Raster Attribute Table: true
Edit Fields Info: null
Ownership Based AccessControl For Rasters: null
Child Resources:
Info
Raster Attribute Table
Histograms
Statistics
Key Properties
Legend
Raster Function Infos
Supported Operations:
Export Image
Identify
Measure
Compute Histograms
Compute Statistics Histograms
Get Samples
Compute Class Statistics
Query Boundary
Compute Pixel Location
Compute Angles
Validate
Project