View In:
ArcGIS JavaScript
ArcGIS Online Map Viewer
ArcGIS Earth
Service Description: 355-71/WoodCo_DEM_50cm
Name: 355-71/WoodCo_DEM_50cm
Description:
Single Fused Map Cache: false
Extent:
XMin: 699148.6083456404
YMin: 5673130.869564313
XMax: 700315.1083456404
YMax: 5674301.369564313
Spatial Reference: 26910
(26910)
LatestVCSWkid(0)
Initial Extent:
XMin: 699148.6083456404
YMin: 5673130.869564313
XMax: 700315.1083456404
YMax: 5674301.369564313
Spatial Reference: 26910
(26910)
LatestVCSWkid(0)
Full Extent:
XMin: 699148.6083456404
YMin: 5673130.869564313
XMax: 700315.1083456404
YMax: 5674301.369564313
Spatial Reference: 26910
(26910)
LatestVCSWkid(0)
Pixel Size X: 0.5
Pixel Size Y: 0.5
Band Count: 1
Pixel Type: F32
RasterFunction Infos: {"rasterFunctionInfos": [{
"name": "None",
"description": "",
"help": ""
}]}
Mensuration Capabilities: Basic
Inspection Capabilities:
Has Histograms: true
Has Colormap: false
Has Multi Dimensions : false
Rendering Rule:
Min Scale: 0
Max Scale: 0
Copyright Text:
Service Data Type: esriImageServiceDataTypeGeneric
Min Values: 358.9594421386719
Max Values: 377.9884338378906
Mean Values: 367.7228924584279
Standard Deviation Values: 4.686891664424375
Object ID Field:
Fields:
None
Default Mosaic Method: Center
Allowed Mosaic Methods:
SortField:
SortValue: null
Mosaic Operator: First
Default Compression Quality: 75
Default Resampling Method: Bilinear
Max Record Count: null
Max Image Height: 4100
Max Image Width: 15000
Max Download Image Count: null
Max Mosaic Image Count: null
Allow Raster Function: true
Allow Copy: true
Allow Analysis: true
Allow Compute TiePoints: false
Supports Statistics: false
Supports Advanced Queries: false
Use StandardizedQueries: true
Raster Type Infos:
Name: Raster Dataset
Description: Supports all ArcGIS Raster Datasets
Help:
Has Raster Attribute Table: false
Edit Fields Info: null
Ownership Based AccessControl For Rasters: null
Child Resources:
Info
Histograms
Statistics
Key Properties
Legend
Raster Function Infos
Supported Operations:
Export Image
Identify
Measure
Compute Histograms
Compute Statistics Histograms
Get Samples
Compute Class Statistics
Query Boundary
Compute Pixel Location
Compute Angles
Validate
Project