View In:
ArcGIS JavaScript
ArcGIS Online Map Viewer
ArcGIS Earth
Service Description: 355-1/Woodco_Ortho_3cm
Name: 355-1/Woodco_Ortho_3cm
Description:
Single Fused Map Cache: false
Extent:
XMin: 699086.096975653
YMin: 5673071.7900802
XMax: 700350.776975653
YMax: 5674367.4900802
Spatial Reference: 26910
(26910)
LatestVCSWkid(0)
Initial Extent:
XMin: 699086.096975653
YMin: 5673071.7900802
XMax: 700350.776975653
YMax: 5674367.4900802
Spatial Reference: 26910
(26910)
LatestVCSWkid(0)
Full Extent:
XMin: 699086.096975653
YMin: 5673071.7900802
XMax: 700350.776975653
YMax: 5674367.4900802
Spatial Reference: 26910
(26910)
LatestVCSWkid(0)
Pixel Size X: 0.030000000000001217
Pixel Size Y: 0.03000000000000431
Band Count: 4
Pixel Type: U8
RasterFunction Infos: {"rasterFunctionInfos": [
{
"name": "ORTHO3CM_TRY",
"description": "WILL IT WORK THIS TIME? ",
"help": ""
},
{
"name": "None",
"description": "Make a Raster or Raster Dataset into a Function Raster Dataset.",
"help": ""
},
{
"name": "ortho3cm",
"description": "orthoimage 3cm woodco",
"help": ""
}
]}
Mensuration Capabilities: Basic
Inspection Capabilities:
Has Histograms: true
Has Colormap: false
Has Multi Dimensions : false
Rendering Rule:
Min Scale: 0
Max Scale: 0
Resampling: false
Copyright Text:
Service Data Type: esriImageServiceDataTypeGeneric
Min Values: 0, 0, 0, 0
Max Values: 255, 255, 255, 255
Mean Values: 179.31032952479111, 173.94033137559978, 169.30030949279978, 130.22622862872905
Standard Deviation Values: 79.69662103673994, 84.16268490552999, 88.22154495980564, 127.4708503399436
Object ID Field:
Fields:
None
Default Mosaic Method: Center
Allowed Mosaic Methods:
SortField:
SortValue: null
Mosaic Operator: First
Default Compression Quality: 75
Default Resampling Method: Bilinear
Max Record Count: null
Max Image Height: 4100
Max Image Width: 15000
Max Download Image Count: null
Max Mosaic Image Count: null
Allow Raster Function: true
Allow Copy: true
Allow Analysis: true
Allow Compute TiePoints: false
Supports Statistics: false
Supports Advanced Queries: false
Use StandardizedQueries: true
Raster Type Infos:
Name: Raster Dataset
Description: Supports all ArcGIS Raster Datasets
Help:
Has Raster Attribute Table: false
Edit Fields Info: null
Ownership Based AccessControl For Rasters: null
Child Resources:
Info
Histograms
Statistics
Key Properties
Legend
Raster Function Infos
Supported Operations:
Export Image
Identify
Measure
Compute Histograms
Compute Statistics Histograms
Get Samples
Compute Class Statistics
Query Boundary
Compute Pixel Location
Compute Angles
Validate
Project