View In:
ArcGIS JavaScript
ArcGIS Online Map Viewer
ArcGIS Earth
Service Description: 1670_1/img_all_tif
Name: 1670_1/img_all_tif
Description:
Single Fused Map Cache: false
Extent:
XMin: 570000.0121921016
YMin: 5050000.000322799
XMax: 590000.0121921016
YMax: 5065000.000322799
Spatial Reference: 26917
(26917)
LatestVCSWkid(0)
Initial Extent:
XMin: 570000.0121921016
YMin: 5050000.000322799
XMax: 590000.0121921016
YMax: 5065000.000322799
Spatial Reference: 26917
(26917)
LatestVCSWkid(0)
Full Extent:
XMin: 570000.0121921016
YMin: 5050000.000322799
XMax: 590000.0121921016
YMax: 5065000.000322799
Spatial Reference: 26917
(26917)
LatestVCSWkid(0)
Pixel Size X: 0.2
Pixel Size Y: 0.2
Band Count: 4
Pixel Type: U8
RasterFunction Infos: {"rasterFunctionInfos": [{
"name": "None",
"description": "",
"help": ""
}]}
Mensuration Capabilities: Basic
Inspection Capabilities:
Has Histograms: true
Has Colormap: false
Has Multi Dimensions : false
Rendering Rule:
Min Scale: 0
Max Scale: 0
Copyright Text:
Service Data Type: esriImageServiceDataTypeGeneric
Min Values: 1, 1, 1, 1
Max Values: 255, 255, 255, 254
Mean Values: 131.56758642211, 51.131733282923, 77.506905639247, 61.797410500202
Standard Deviation Values: 52.219615399835, 28.490249337988, 31.27370256803, 16.549586040069
Object ID Field:
Fields:
None
Default Mosaic Method: Center
Allowed Mosaic Methods:
SortField:
SortValue: null
Mosaic Operator: First
Default Compression Quality: 75
Default Resampling Method: Bilinear
Max Record Count: null
Max Image Height: 4100
Max Image Width: 15000
Max Download Image Count: null
Max Mosaic Image Count: null
Allow Raster Function: true
Allow Copy: true
Allow Analysis: true
Allow Compute TiePoints: false
Supports Statistics: false
Supports Advanced Queries: false
Use StandardizedQueries: true
Raster Type Infos:
Name: Raster Dataset
Description: Supports all ArcGIS Raster Datasets
Help:
Has Raster Attribute Table: false
Edit Fields Info: null
Ownership Based AccessControl For Rasters: null
Child Resources:
Info
Histograms
Statistics
Key Properties
Legend
Raster Function Infos
Supported Operations:
Export Image
Identify
Measure
Compute Histograms
Compute Statistics Histograms
Get Samples
Compute Class Statistics
Query Boundary
Compute Pixel Location
Compute Angles
Validate
Project