View In:
ArcGIS JavaScript
ArcGIS Online Map Viewer
ArcGIS Earth
Service Description: 1670_1/Westwind_demo_DEM_tif
Name: 1670_1/Westwind_demo_DEM_tif
Description:
Single Fused Map Cache: false
Extent:
XMin: 577000.0121993398
YMin: 5053000.0003141565
XMax: 583000.0121993398
YMax: 5058000.0003141565
Spatial Reference: 26917
(26917)
LatestVCSWkid(0)
Initial Extent:
XMin: 577000.0121993398
YMin: 5053000.0003141565
XMax: 583000.0121993398
YMax: 5058000.0003141565
Spatial Reference: 26917
(26917)
LatestVCSWkid(0)
Full Extent:
XMin: 577000.0121993398
YMin: 5053000.0003141565
XMax: 583000.0121993398
YMax: 5058000.0003141565
Spatial Reference: 26917
(26917)
LatestVCSWkid(0)
Pixel Size X: 0.5
Pixel Size Y: 0.5
Band Count: 1
Pixel Type: S32
RasterFunction Infos: {"rasterFunctionInfos": [{
"name": "None",
"description": "",
"help": ""
}]}
Mensuration Capabilities: Basic
Inspection Capabilities:
Has Histograms: true
Has Colormap: false
Has Multi Dimensions : false
Rendering Rule:
Min Scale: 0
Max Scale: 0
Copyright Text:
Service Data Type: esriImageServiceDataTypeGeneric
Min Values: 238
Max Values: 305
Mean Values: 264.62524141671
Standard Deviation Values: 10.994635252978
Object ID Field:
Fields:
None
Default Mosaic Method: Center
Allowed Mosaic Methods:
SortField:
SortValue: null
Mosaic Operator: First
Default Compression Quality: 75
Default Resampling Method: Bilinear
Max Record Count: null
Max Image Height: 4100
Max Image Width: 15000
Max Download Image Count: null
Max Mosaic Image Count: null
Allow Raster Function: true
Allow Copy: true
Allow Analysis: true
Allow Compute TiePoints: false
Supports Statistics: false
Supports Advanced Queries: false
Use StandardizedQueries: true
Raster Type Infos:
Name: Raster Dataset
Description: Supports all ArcGIS Raster Datasets
Help:
Has Raster Attribute Table: false
Edit Fields Info: null
Ownership Based AccessControl For Rasters: null
Child Resources:
Info
Histograms
Statistics
Key Properties
Legend
Raster Function Infos
Supported Operations:
Export Image
Identify
Measure
Compute Histograms
Compute Statistics Histograms
Get Samples
Compute Class Statistics
Query Boundary
Compute Pixel Location
Compute Angles
Validate
Project