View In:
ArcGIS JavaScript
ArcGIS Online Map Viewer
ArcGIS Earth
Service Description: 1647_1/STOLO_DEM_2m_tif
Name: 1647_1/STOLO_DEM_2m_tif
Description:
Single Fused Map Cache: false
Extent:
XMin: 1302034.5
YMin: 451862.24
XMax: 1343036.5
YMax: 473596.24
Spatial Reference: 102190
(3005)
Initial Extent:
XMin: 1302034.5
YMin: 451862.24
XMax: 1343036.5
YMax: 473596.24
Spatial Reference: 102190
(3005)
Full Extent:
XMin: 1302034.5
YMin: 451862.24
XMax: 1343036.5
YMax: 473596.24
Spatial Reference: 102190
(3005)
Pixel Size X: 2.0
Pixel Size Y: 2.0
Band Count: 1
Pixel Type: F32
RasterFunction Infos: {"rasterFunctionInfos": [
{
"name": "Hillshade",
"description": "Creates a hillshade from your DEM",
"help": ""
},
{
"name": "Slope",
"description": "Calculates the slope for your DEM",
"help": ""
},
{
"name": "Aspect",
"description": "Calculates the aspect for your DEM",
"help": ""
},
{
"name": "None",
"description": "",
"help": ""
}
]}
Mensuration Capabilities: Basic
Inspection Capabilities:
Has Histograms: true
Has Colormap: false
Has Multi Dimensions : false
Rendering Rule:
Min Scale: 0
Max Scale: 0
Resampling: false
Copyright Text:
Service Data Type: esriImageServiceDataTypeGeneric
Min Values: 100.86708831787
Max Values: 1850.7584228516
Mean Values: 817.98518325276
Standard Deviation Values: 364.70495084104
Object ID Field:
Fields:
None
Default Mosaic Method: Center
Allowed Mosaic Methods:
SortField:
SortValue: null
Mosaic Operator: First
Default Compression Quality: 75
Default Resampling Method: Bilinear
Max Record Count: null
Max Image Height: 4100
Max Image Width: 15000
Max Download Image Count: null
Max Mosaic Image Count: null
Allow Raster Function: true
Allow Copy: true
Allow Analysis: true
Allow Compute TiePoints: false
Supports Statistics: false
Supports Advanced Queries: false
Use StandardizedQueries: true
Raster Type Infos:
Name: Raster Dataset
Description: Supports all ArcGIS Raster Datasets
Help:
Has Raster Attribute Table: false
Edit Fields Info: null
Ownership Based AccessControl For Rasters: null
Child Resources:
Info
Histograms
Statistics
Key Properties
Legend
Raster Function Infos
Supported Operations:
Export Image
Identify
Measure
Compute Histograms
Compute Statistics Histograms
Get Samples
Compute Class Statistics
Query Boundary
Compute Pixel Location
Compute Angles
Validate
Project