View In:
ArcGIS JavaScript
ArcGIS Online Map Viewer
ArcGIS Earth
Service Description: 1647_1/RandomForest_Output_Prediction_Raster
Name: 1647_1/RandomForest_Output_Prediction_Raster
Description:
Single Fused Map Cache: false
Extent:
XMin: 1302035.0000000019
YMin: 451862.50000000186
XMax: 1343010.0000000019
YMax: 473577.50000000186
Spatial Reference: 102190
(3005)
Initial Extent:
XMin: 1302035.0000000019
YMin: 451862.50000000186
XMax: 1343010.0000000019
YMax: 473577.50000000186
Spatial Reference: 102190
(3005)
Full Extent:
XMin: 1302035.0000000019
YMin: 451862.50000000186
XMax: 1343010.0000000019
YMax: 473577.50000000186
Spatial Reference: 102190
(3005)
Pixel Size X: 5.0
Pixel Size Y: 5.0
Band Count: 1
Pixel Type: F32
RasterFunction Infos: {"rasterFunctionInfos": [{
"name": "None",
"description": "",
"help": ""
}]}
Mensuration Capabilities: Basic
Inspection Capabilities:
Has Histograms: true
Has Colormap: false
Has Multi Dimensions : false
Rendering Rule:
Min Scale: 0
Max Scale: 0
Copyright Text:
Service Data Type: esriImageServiceDataTypeGeneric
Min Values: 154.59295654296875
Max Values: 222.45111083984375
Mean Values: 168.46928658899353
Standard Deviation Values: 5.045992740984044
Object ID Field:
Fields:
None
Default Mosaic Method: Center
Allowed Mosaic Methods:
SortField:
SortValue: null
Mosaic Operator: First
Default Compression Quality: 75
Default Resampling Method: Bilinear
Max Record Count: null
Max Image Height: 4100
Max Image Width: 15000
Max Download Image Count: null
Max Mosaic Image Count: null
Allow Raster Function: true
Allow Copy: true
Allow Analysis: true
Allow Compute TiePoints: false
Supports Statistics: false
Supports Advanced Queries: false
Use StandardizedQueries: true
Raster Type Infos:
Name: Raster Dataset
Description: Supports all ArcGIS Raster Datasets
Help:
Has Raster Attribute Table: false
Edit Fields Info: null
Ownership Based AccessControl For Rasters: null
Child Resources:
Info
Histograms
Statistics
Key Properties
Legend
Raster Function Infos
Supported Operations:
Export Image
Identify
Measure
Compute Histograms
Compute Statistics Histograms
Get Samples
Compute Class Statistics
Query Boundary
Compute Pixel Location
Compute Angles
Validate
Project