View In:
ArcGIS JavaScript
ArcGIS Online Map Viewer
ArcGIS Earth
Service Description: 1647_1/ForestOutRaster_25m_NewField_300Trees
Name: 1647_1/ForestOutRaster_25m_NewField_300Trees
Description:
Single Fused Map Cache: false
Extent:
XMin: 1302633.0000000037
YMin: 451940.7400000021
XMax: 1339833.0000000037
YMax: 472440.7400000021
Spatial Reference: 102190
(3005)
Initial Extent:
XMin: 1302633.0000000037
YMin: 451940.7400000021
XMax: 1339833.0000000037
YMax: 472440.7400000021
Spatial Reference: 102190
(3005)
Full Extent:
XMin: 1302633.0000000037
YMin: 451940.7400000021
XMax: 1339833.0000000037
YMax: 472440.7400000021
Spatial Reference: 102190
(3005)
Pixel Size X: 25.0
Pixel Size Y: 25.0
Band Count: 1
Pixel Type: F64
RasterFunction Infos: {"rasterFunctionInfos": [{
"name": "None",
"description": "",
"help": ""
}]}
Mensuration Capabilities: Basic
Inspection Capabilities:
Has Histograms: true
Has Colormap: false
Has Multi Dimensions : false
Rendering Rule:
Min Scale: 0
Max Scale: 0
Copyright Text:
Service Data Type: esriImageServiceDataTypeGeneric
Min Values: 0
Max Values: 4
Mean Values: 2.6434294016729187
Standard Deviation Values: 0.5961122863223735
Object ID Field:
Fields:
None
Default Mosaic Method: Center
Allowed Mosaic Methods:
SortField:
SortValue: null
Mosaic Operator: First
Default Compression Quality: 75
Default Resampling Method: Bilinear
Max Record Count: null
Max Image Height: 4100
Max Image Width: 15000
Max Download Image Count: null
Max Mosaic Image Count: null
Allow Raster Function: true
Allow Copy: true
Allow Analysis: true
Allow Compute TiePoints: false
Supports Statistics: false
Supports Advanced Queries: false
Use StandardizedQueries: true
Raster Type Infos:
Name: Raster Dataset
Description: Supports all ArcGIS Raster Datasets
Help:
Has Raster Attribute Table: false
Edit Fields Info: null
Ownership Based AccessControl For Rasters: null
Child Resources:
Info
Histograms
Statistics
Key Properties
Legend
Raster Function Infos
Supported Operations:
Export Image
Identify
Measure
Compute Histograms
Compute Statistics Histograms
Get Samples
Compute Class Statistics
Query Boundary
Compute Pixel Location
Compute Angles
Validate
Project