View In:
ArcGIS JavaScript
ArcGIS Online Map Viewer
ArcGIS Earth
Service Description: 12_31/FBP_FuelLayer_Fed2019
Name: 12_31/FBP_FuelLayer_Fed2019
Description:
Single Fused Map Cache: false
Extent:
XMin: 5057715.969964798
YMin: 2629311.196961137
XMax: 5218215.969964798
YMax: 2789811.196961137
Spatial Reference: 0
(0)
LatestVCSWkid(0)
Initial Extent:
XMin: 5057715.969964798
YMin: 2629311.196961137
XMax: 5218215.969964798
YMax: 2789811.196961137
Spatial Reference: 0
(0)
LatestVCSWkid(0)
Full Extent:
XMin: 5057715.969964798
YMin: 2629311.196961137
XMax: 5218215.969964798
YMax: 2789811.196961137
Spatial Reference: 0
(0)
LatestVCSWkid(0)
Pixel Size X: 250.0
Pixel Size Y: 250.0
Band Count: 1
Pixel Type: U16
RasterFunction Infos: {"rasterFunctionInfos": [
{
"name": "Canada",
"description": "FUEL ID",
"help": ""
},
{
"name": "None",
"description": "",
"help": ""
}
]}
Mensuration Capabilities: Basic
Inspection Capabilities:
Has Histograms: true
Has Colormap: false
Has Multi Dimensions : false
Rendering Rule:
Min Scale: 0
Max Scale: 0
Resampling: false
Copyright Text:
Service Data Type: esriImageServiceDataTypeGeneric
Min Values: 1
Max Values: 665
Mean Values: 158.37097510573
Standard Deviation Values: 244.48580760811
Object ID Field:
Fields:
None
Default Mosaic Method: Center
Allowed Mosaic Methods:
SortField:
SortValue: null
Mosaic Operator: First
Default Compression Quality: 75
Default Resampling Method: Nearest
Max Record Count: null
Max Image Height: 4100
Max Image Width: 15000
Max Download Image Count: null
Max Mosaic Image Count: null
Allow Raster Function: true
Allow Copy: true
Allow Analysis: true
Allow Compute TiePoints: false
Supports Statistics: false
Supports Advanced Queries: false
Use StandardizedQueries: true
Raster Type Infos:
Name: Raster Dataset
Description: Supports all ArcGIS Raster Datasets
Help:
Has Raster Attribute Table: true
Edit Fields Info: null
Ownership Based AccessControl For Rasters: null
Child Resources:
Info
Raster Attribute Table
Histograms
Statistics
Key Properties
Legend
Raster Function Infos
Supported Operations:
Export Image
Identify
Measure
Compute Histograms
Compute Statistics Histograms
Get Samples
Compute Class Statistics
Query Boundary
Compute Pixel Location
Compute Angles
Validate
Project