View In:
ArcGIS JavaScript
ArcGIS Online Map Viewer
ArcGIS Earth
Service Description: 1183_3/canopy_fuel_weight
Name: 1183_3/canopy_fuel_weight
Description:
Single Fused Map Cache: false
Extent:
XMin: 1361990.0
YMin: 616450.0
XMax: 1393850.0
YMax: 640510.0
Spatial Reference: 102190
(3005)
LatestVCSWkid(0)
Initial Extent:
XMin: 1361990.0
YMin: 616450.0
XMax: 1393850.0
YMax: 640510.0
Spatial Reference: 102190
(3005)
LatestVCSWkid(0)
Full Extent:
XMin: 1361990.0
YMin: 616450.0
XMax: 1393850.0
YMax: 640510.0
Spatial Reference: 102190
(3005)
LatestVCSWkid(0)
Pixel Size X: 20.0
Pixel Size Y: 20.0
Band Count: 1
Pixel Type: F64
RasterFunction Infos: {"rasterFunctionInfos": [
{
"name": "CanopyFuelWeight",
"description": "CanopyFuelWeight",
"help": ""
},
{
"name": "None",
"description": "",
"help": ""
}
]}
Mensuration Capabilities: Basic
Inspection Capabilities:
Has Histograms: true
Has Colormap: false
Has Multi Dimensions : false
Rendering Rule:
Min Scale: 0
Max Scale: 0
Resampling: false
Copyright Text:
Service Data Type: esriImageServiceDataTypeGeneric
Min Values: 0
Max Values: 31438.1275
Mean Values: 5441.518356480411
Standard Deviation Values: 4050.408630002472
Object ID Field:
Fields:
None
Default Mosaic Method: Center
Allowed Mosaic Methods:
SortField:
SortValue: null
Mosaic Operator: First
Default Compression Quality: 75
Default Resampling Method: Bilinear
Max Record Count: null
Max Image Height: 4100
Max Image Width: 15000
Max Download Image Count: null
Max Mosaic Image Count: null
Allow Raster Function: true
Allow Copy: true
Allow Analysis: true
Allow Compute TiePoints: false
Supports Statistics: false
Supports Advanced Queries: false
Use StandardizedQueries: true
Raster Type Infos:
Name: Raster Dataset
Description: Supports all ArcGIS Raster Datasets
Help:
Has Raster Attribute Table: false
Edit Fields Info: null
Ownership Based AccessControl For Rasters: null
Child Resources:
Info
Histograms
Statistics
Key Properties
Legend
Raster Function Infos
Supported Operations:
Export Image
Identify
Measure
Compute Histograms
Compute Statistics Histograms
Get Samples
Compute Class Statistics
Query Boundary
Compute Pixel Location
Compute Angles
Validate
Project