View In:
ArcGIS JavaScript
ArcGIS Online Map Viewer
ArcGIS Earth
Service Description: 1183_3/Hillshade_5m
Name: 1183_3/Hillshade_5m
Description:
Single Fused Map Cache: false
Extent:
XMin: 1338595.3256475609
YMin: 597443.9441930427
XMax: 1427165.3256475609
YMax: 656908.9441930427
Spatial Reference: 102190
(3005)
LatestVCSWkid(0)
Initial Extent:
XMin: 1338595.3256475609
YMin: 597443.9441930427
XMax: 1427165.3256475609
YMax: 656908.9441930427
Spatial Reference: 102190
(3005)
LatestVCSWkid(0)
Full Extent:
XMin: 1338595.3256475609
YMin: 597443.9441930427
XMax: 1427165.3256475609
YMax: 656908.9441930427
Spatial Reference: 102190
(3005)
LatestVCSWkid(0)
Pixel Size X: 5.0
Pixel Size Y: 5.0
Band Count: 1
Pixel Type: U16
RasterFunction Infos: {"rasterFunctionInfos": [
{
"name": "Hillshade",
"description": "Hillshade",
"help": ""
},
{
"name": "None",
"description": "",
"help": ""
}
]}
Mensuration Capabilities: Basic
Inspection Capabilities:
Has Histograms: true
Has Colormap: false
Has Multi Dimensions : false
Rendering Rule:
Min Scale: 0
Max Scale: 0
Resampling: false
Copyright Text:
Service Data Type: esriImageServiceDataTypeGeneric
Min Values: 0
Max Values: 255
Mean Values: 179.4963601031188
Standard Deviation Values: 29.703227392609087
Object ID Field:
Fields:
None
Default Mosaic Method: Center
Allowed Mosaic Methods:
SortField:
SortValue: null
Mosaic Operator: First
Default Compression Quality: 75
Default Resampling Method: Bilinear
Max Record Count: null
Max Image Height: 4100
Max Image Width: 15000
Max Download Image Count: null
Max Mosaic Image Count: null
Allow Raster Function: true
Allow Copy: true
Allow Analysis: true
Allow Compute TiePoints: false
Supports Statistics: false
Supports Advanced Queries: false
Use StandardizedQueries: true
Raster Type Infos:
Name: Raster Dataset
Description: Supports all ArcGIS Raster Datasets
Help:
Has Raster Attribute Table: false
Edit Fields Info: null
Ownership Based AccessControl For Rasters: null
Child Resources:
Info
Histograms
Statistics
Key Properties
Legend
Raster Function Infos
Supported Operations:
Export Image
Identify
Measure
Compute Histograms
Compute Statistics Histograms
Get Samples
Compute Class Statistics
Query Boundary
Compute Pixel Location
Compute Angles
Validate
Project