View In:
ArcGIS JavaScript
ArcGIS Online Map Viewer
ArcGIS Earth
Service Description: 1183_3/CHM
Name: 1183_3/CHM
Description:
Single Fused Map Cache: false
Extent:
XMin: 1356948.0750266707
YMin: 612927.7568465014
XMax: 1401233.0750266707
YMax: 642662.7568465014
Spatial Reference: 102190
(3005)
LatestVCSWkid(0)
Initial Extent:
XMin: 1356948.0750266707
YMin: 612927.7568465014
XMax: 1401233.0750266707
YMax: 642662.7568465014
Spatial Reference: 102190
(3005)
LatestVCSWkid(0)
Full Extent:
XMin: 1356948.0750266707
YMin: 612927.7568465014
XMax: 1401233.0750266707
YMax: 642662.7568465014
Spatial Reference: 102190
(3005)
LatestVCSWkid(0)
Pixel Size X: 5.0
Pixel Size Y: 5.0
Band Count: 1
Pixel Type: F32
RasterFunction Infos: {"rasterFunctionInfos": [
{
"name": "CHM",
"description": "CHM Symbology",
"help": ""
},
{
"name": "None",
"description": "",
"help": ""
}
]}
Mensuration Capabilities: Basic
Inspection Capabilities:
Has Histograms: true
Has Colormap: false
Has Multi Dimensions : false
Rendering Rule:
Min Scale: 0
Max Scale: 0
Resampling: false
Copyright Text:
Service Data Type: esriImageServiceDataTypeGeneric
Min Values: -0.16740716993808746
Max Values: 74.8858871459961
Mean Values: 6.846518018848945
Standard Deviation Values: 6.197674371858109
Object ID Field:
Fields:
None
Default Mosaic Method: Center
Allowed Mosaic Methods:
SortField:
SortValue: null
Mosaic Operator: First
Default Compression Quality: 75
Default Resampling Method: Bilinear
Max Record Count: null
Max Image Height: 4100
Max Image Width: 15000
Max Download Image Count: null
Max Mosaic Image Count: null
Allow Raster Function: true
Allow Copy: true
Allow Analysis: true
Allow Compute TiePoints: false
Supports Statistics: false
Supports Advanced Queries: false
Use StandardizedQueries: true
Raster Type Infos:
Name: Raster Dataset
Description: Supports all ArcGIS Raster Datasets
Help:
Has Raster Attribute Table: false
Edit Fields Info: null
Ownership Based AccessControl For Rasters: null
Child Resources:
Info
Histograms
Statistics
Key Properties
Legend
Raster Function Infos
Supported Operations:
Export Image
Identify
Measure
Compute Histograms
Compute Statistics Histograms
Get Samples
Compute Class Statistics
Query Boundary
Compute Pixel Location
Compute Angles
Validate
Project