{
 "currentVersion": 11.3,
 "serviceDescription": "LoganLake/FlammulatedOwl_PotentialHabitat_UPDATE",
 "name": "LoganLake/FlammulatedOwl_PotentialHabitat_UPDATE",
 "description": "",
 "extent": {
  "xmin": 1363607.034,
  "ymin": 617857.3210000005,
  "xmax": 1392587.034,
  "ymax": 638797.3210000005,
  "spatialReference": {
   "wkid": 102190,
   "latestWkid": 3005
  }
 },
 "initialExtent": {
  "xmin": 1363607.034,
  "ymin": 617857.3210000005,
  "xmax": 1392587.034,
  "ymax": 638797.3210000005,
  "spatialReference": {
   "wkid": 102190,
   "latestWkid": 3005
  }
 },
 "fullExtent": {
  "xmin": 1363607.034,
  "ymin": 617857.3210000005,
  "xmax": 1392587.034,
  "ymax": 638797.3210000005,
  "spatialReference": {
   "wkid": 102190,
   "latestWkid": 3005
  }
 },
 "sortableFields": "",
 "bandCount": 1,
 "pixelType": "F64",
 "minValues": [
  0.2
 ],
 "maxValues": [
  3
 ],
 "meanValues": [
  1.4316588500153218
 ],
 "stdvValues": [
  0.6610694797052376
 ],
 "hasMultidimensions": false,
 "pixelSizeX": 5,
 "pixelSizeY": 5,
 "meanPixelSize": 5,
 "datasetFormat": "FGDBR",
 "uncompressedSize": 194189184,
 "blockWidth": 128,
 "blockHeight": 128,
 "compressionType": "LZ77",
 "bandNames": [
  "Band_1"
 ],
 "allowCopy": true,
 "allowAnalysis": true,
 "itemAccess": false,
 "inspectionCapabilities": "",
 "minPixelSize": 0,
 "maxPixelSize": 0,
 "copyrightText": "",
 "serviceDataType": "esriImageServiceDataTypeGeneric",
 "serviceSourceType": "esriImageServiceSourceTypeDataset",
 "objectIdField": "",
 "fields": [],
 "capabilities": "Mensuration,Image,Metadata",
 "defaultMosaicMethod": "Center",
 "allowedMosaicMethods": "",
 "sortField": "",
 "sortValue": null,
 "sortAscending": true,
 "mosaicOperator": "First",
 "defaultCompressionQuality": 75,
 "defaultResamplingMethod": "Bilinear",
 "maxImageHeight": 4100,
 "maxImageWidth": 15000,
 "allowRasterFunction": true,
 "rasterFunctionInfos": [
  {
   "name": "FlammulatedOwl_PotentialHabitat_UPDATE",
   "description": "missing layers",
   "help": ""
  },
  {
   "name": "None",
   "description": "",
   "help": ""
  }
 ],
 "rasterTypeInfos": [
  {
   "name": "Raster Dataset",
   "description": "Supports all ArcGIS Raster Datasets",
   "help": ""
  }
 ],
 "mensurationCapabilities": "Basic",
 "hasHistograms": true,
 "hasColormap": false,
 "hasRasterAttributeTable": false,
 "minScale": 0,
 "maxScale": 0,
 "exportTilesAllowed": false,
 "supportsStatistics": false,
 "supportsAdvancedQueries": false,
 "editFieldsInfo": null,
 "ownershipBasedAccessControlForRasters": null,
 "allowComputeTiePoints": false,
 "useStandardizedQueries": true,
 "advancedQueryCapabilities": {
  "useStandardizedQueries": true,
  "supportsStatistics": false,
  "supportsOrderBy": false,
  "supportsDistinct": false,
  "supportsPagination": false
 },
 "spatialReference": {
  "wkid": 102190,
  "latestWkid": 3005
 },
 "resampling": false
}
