{
 "currentVersion": 11.3,
 "serviceDescription": "FUEL_ID/herbForb_1000_tif",
 "name": "FUEL_ID/herbForb_1000_tif",
 "description": "",
 "extent": {
  "xmin": 4391261.787264187,
  "ymin": 1752766.0922465588,
  "xmax": 4495631.787264187,
  "ymax": 1916876.0922465588,
  "spatialReference": {
   "wkid": 3348,
   "latestWkid": 3348
  }
 },
 "initialExtent": {
  "xmin": 4391261.787264187,
  "ymin": 1752766.0922465588,
  "xmax": 4495631.787264187,
  "ymax": 1916876.0922465588,
  "spatialReference": {
   "wkid": 3348,
   "latestWkid": 3348
  }
 },
 "fullExtent": {
  "xmin": 4391261.787264187,
  "ymin": 1752766.0922465588,
  "xmax": 4495631.787264187,
  "ymax": 1916876.0922465588,
  "spatialReference": {
   "wkid": 3348,
   "latestWkid": 3348
  }
 },
 "sortableFields": "",
 "bandCount": 1,
 "pixelType": "S32",
 "minValues": [
  0
 ],
 "maxValues": [
  4000
 ],
 "meanValues": [
  23.405951241458
 ],
 "stdvValues": [
  48.273577105917
 ],
 "hasMultidimensions": false,
 "pixelSizeX": 10,
 "pixelSizeY": 10,
 "meanPixelSize": 10,
 "datasetFormat": "TIFF",
 "uncompressedSize": 685126428,
 "blockWidth": 128,
 "blockHeight": 128,
 "compressionType": "LZW",
 "bandNames": [
  "Band_1"
 ],
 "allowCopy": true,
 "allowAnalysis": true,
 "itemAccess": false,
 "inspectionCapabilities": "",
 "noDataValue": -2147483648,
 "noDataValues": [
  -2147483648
 ],
 "minPixelSize": 0,
 "maxPixelSize": 0,
 "copyrightText": "",
 "serviceDataType": "esriImageServiceDataTypeGeneric",
 "serviceSourceType": "esriImageServiceSourceTypeDataset",
 "objectIdField": "",
 "fields": [],
 "capabilities": "Mensuration,Image,Metadata",
 "defaultMosaicMethod": "Center",
 "allowedMosaicMethods": "",
 "sortField": "",
 "sortValue": null,
 "sortAscending": true,
 "mosaicOperator": "First",
 "defaultCompressionQuality": 75,
 "defaultResamplingMethod": "Nearest",
 "maxImageHeight": 4100,
 "maxImageWidth": 15000,
 "allowRasterFunction": true,
 "rasterFunctionInfos": [
  {
   "name": "herbaceous2",
   "description": "fuel id",
   "help": ""
  },
  {
   "name": "None",
   "description": "",
   "help": ""
  }
 ],
 "rasterTypeInfos": [
  {
   "name": "Raster Dataset",
   "description": "Supports all ArcGIS Raster Datasets",
   "help": ""
  }
 ],
 "mensurationCapabilities": "Basic",
 "hasHistograms": true,
 "hasColormap": false,
 "hasRasterAttributeTable": false,
 "minScale": 0,
 "maxScale": 0,
 "exportTilesAllowed": false,
 "supportsStatistics": false,
 "supportsAdvancedQueries": false,
 "editFieldsInfo": null,
 "ownershipBasedAccessControlForRasters": null,
 "allowComputeTiePoints": false,
 "useStandardizedQueries": true,
 "advancedQueryCapabilities": {
  "useStandardizedQueries": true,
  "supportsStatistics": false,
  "supportsOrderBy": false,
  "supportsDistinct": false,
  "supportsPagination": false
 },
 "spatialReference": {
  "wkid": 3348,
  "latestWkid": 3348
 },
 "resampling": false
}
