{
 "currentVersion": 11.3,
 "serviceDescription": "FUEL_ID/grass_kgpm2_MergedTIF_tif",
 "name": "FUEL_ID/grass_kgpm2_MergedTIF_tif",
 "description": "",
 "extent": {
  "xmin": 459481,
  "ymin": 5425891,
  "xmax": 595161,
  "ymax": 5574371,
  "spatialReference": {
   "wkid": 2153,
   "latestWkid": 2955
  }
 },
 "initialExtent": {
  "xmin": 459481,
  "ymin": 5425891,
  "xmax": 595161,
  "ymax": 5574371,
  "spatialReference": {
   "wkid": 2153,
   "latestWkid": 2955
  }
 },
 "fullExtent": {
  "xmin": 459481,
  "ymin": 5425891,
  "xmax": 595161,
  "ymax": 5574371,
  "spatialReference": {
   "wkid": 2153,
   "latestWkid": 2955
  }
 },
 "sortableFields": "",
 "bandCount": 1,
 "pixelType": "F32",
 "minValues": [
  0
 ],
 "maxValues": [
  6.8773326873779
 ],
 "meanValues": [
  0.1071221340235
 ],
 "stdvValues": [
  0.14406391211849
 ],
 "hasMultidimensions": false,
 "pixelSizeX": 10,
 "pixelSizeY": 10,
 "meanPixelSize": 10,
 "datasetFormat": "TIFF",
 "uncompressedSize": 805830656,
 "blockWidth": 256,
 "blockHeight": 256,
 "compressionType": "LZW",
 "bandNames": [
  "Band_1"
 ],
 "allowCopy": true,
 "allowAnalysis": true,
 "itemAccess": false,
 "inspectionCapabilities": "",
 "noDataValue": -99999,
 "noDataValues": [
  -99999
 ],
 "minPixelSize": 0,
 "maxPixelSize": 0,
 "copyrightText": "",
 "serviceDataType": "esriImageServiceDataTypeGeneric",
 "serviceSourceType": "esriImageServiceSourceTypeDataset",
 "objectIdField": "",
 "fields": [],
 "capabilities": "Mensuration,Image,Metadata",
 "defaultMosaicMethod": "Center",
 "allowedMosaicMethods": "",
 "sortField": "",
 "sortValue": null,
 "sortAscending": true,
 "mosaicOperator": "First",
 "defaultCompressionQuality": 75,
 "defaultResamplingMethod": "Nearest",
 "maxImageHeight": 4100,
 "maxImageWidth": 15000,
 "allowRasterFunction": true,
 "rasterFunctionInfos": [
  {
   "name": "grass",
   "description": "fuel id",
   "help": ""
  },
  {
   "name": "None",
   "description": "",
   "help": ""
  }
 ],
 "rasterTypeInfos": [
  {
   "name": "Raster Dataset",
   "description": "Supports all ArcGIS Raster Datasets",
   "help": ""
  }
 ],
 "mensurationCapabilities": "Basic",
 "hasHistograms": true,
 "hasColormap": false,
 "hasRasterAttributeTable": false,
 "minScale": 0,
 "maxScale": 0,
 "exportTilesAllowed": false,
 "supportsStatistics": false,
 "supportsAdvancedQueries": false,
 "editFieldsInfo": null,
 "ownershipBasedAccessControlForRasters": null,
 "allowComputeTiePoints": false,
 "useStandardizedQueries": true,
 "advancedQueryCapabilities": {
  "useStandardizedQueries": true,
  "supportsStatistics": false,
  "supportsOrderBy": false,
  "supportsDistinct": false,
  "supportsPagination": false
 },
 "spatialReference": {
  "wkid": 2153,
  "latestWkid": 2955
 },
 "resampling": false
}
