{
 "currentVersion": 11.3,
 "serviceDescription": "FUEL_ID/CBD_fuel_attributes",
 "name": "FUEL_ID/CBD_fuel_attributes",
 "description": "",
 "extent": {
  "xmin": 4396004.999999996,
  "ymin": 1770494.9999999902,
  "xmax": 4478504.999999996,
  "ymax": 1916994.9999999902,
  "spatialReference": {
   "wkid": 3348,
   "latestWkid": 3348
  }
 },
 "initialExtent": {
  "xmin": 4396004.999999996,
  "ymin": 1770494.9999999902,
  "xmax": 4478504.999999996,
  "ymax": 1916994.9999999902,
  "spatialReference": {
   "wkid": 3348,
   "latestWkid": 3348
  }
 },
 "fullExtent": {
  "xmin": 4396004.999999996,
  "ymin": 1770494.9999999902,
  "xmax": 4478504.999999996,
  "ymax": 1916994.9999999902,
  "spatialReference": {
   "wkid": 3348,
   "latestWkid": 3348
  }
 },
 "sortableFields": "",
 "bandCount": 1,
 "pixelType": "F32",
 "minValues": [
  9.4353794111157E-7
 ],
 "maxValues": [
  1
 ],
 "meanValues": [
  0.4480731919639
 ],
 "stdvValues": [
  0.14292701908901
 ],
 "hasMultidimensions": false,
 "pixelSizeX": 10,
 "pixelSizeY": 10,
 "meanPixelSize": 10,
 "datasetFormat": "TIFF",
 "uncompressedSize": 483450000,
 "blockWidth": 128,
 "blockHeight": 128,
 "compressionType": "None",
 "bandNames": [
  "Band_1"
 ],
 "allowCopy": true,
 "allowAnalysis": true,
 "itemAccess": false,
 "inspectionCapabilities": "",
 "noDataValue": -3.4028234663852886E38,
 "noDataValues": [
  -3.4028234663852886E38
 ],
 "minPixelSize": 0,
 "maxPixelSize": 0,
 "copyrightText": "",
 "serviceDataType": "esriImageServiceDataTypeGeneric",
 "serviceSourceType": "esriImageServiceSourceTypeDataset",
 "objectIdField": "",
 "fields": [],
 "capabilities": "Mensuration,Image,Metadata",
 "defaultMosaicMethod": "Center",
 "allowedMosaicMethods": "",
 "sortField": "",
 "sortValue": null,
 "sortAscending": true,
 "mosaicOperator": "First",
 "defaultCompressionQuality": 75,
 "defaultResamplingMethod": "Bilinear",
 "maxImageHeight": 4100,
 "maxImageWidth": 15000,
 "allowRasterFunction": true,
 "rasterFunctionInfos": [
  {
   "name": "cbd2",
   "description": "fuel id",
   "help": ""
  },
  {
   "name": "None",
   "description": "",
   "help": ""
  }
 ],
 "rasterTypeInfos": [
  {
   "name": "Raster Dataset",
   "description": "Supports all ArcGIS Raster Datasets",
   "help": ""
  }
 ],
 "mensurationCapabilities": "Basic",
 "hasHistograms": true,
 "hasColormap": false,
 "hasRasterAttributeTable": false,
 "minScale": 0,
 "maxScale": 0,
 "exportTilesAllowed": false,
 "supportsStatistics": false,
 "supportsAdvancedQueries": false,
 "editFieldsInfo": null,
 "ownershipBasedAccessControlForRasters": null,
 "allowComputeTiePoints": false,
 "useStandardizedQueries": true,
 "advancedQueryCapabilities": {
  "useStandardizedQueries": true,
  "supportsStatistics": false,
  "supportsOrderBy": false,
  "supportsDistinct": false,
  "supportsPagination": false
 },
 "spatialReference": {
  "wkid": 3348,
  "latestWkid": 3348
 },
 "resampling": false
}
