{
 "currentVersion": 11.3,
 "serviceDescription": "1647_1/Site_Prod_Cw_tif",
 "name": "1647_1/Site_Prod_Cw_tif",
 "description": "",
 "extent": {
  "xmin": 1286187.5,
  "ymin": 451787.5,
  "xmax": 1343087.5,
  "ymax": 473587.5,
  "spatialReference": {
   "wkid": 102190,
   "latestWkid": 3005
  }
 },
 "initialExtent": {
  "xmin": 1286187.5,
  "ymin": 451787.5,
  "xmax": 1343087.5,
  "ymax": 473587.5,
  "spatialReference": {
   "wkid": 102190,
   "latestWkid": 3005
  }
 },
 "fullExtent": {
  "xmin": 1286187.5,
  "ymin": 451787.5,
  "xmax": 1343087.5,
  "ymax": 473587.5,
  "spatialReference": {
   "wkid": 102190,
   "latestWkid": 3005
  }
 },
 "sortableFields": "",
 "bandCount": 1,
 "pixelType": "F32",
 "minValues": [
  12
 ],
 "maxValues": [
  25.39999961853
 ],
 "meanValues": [
  21.849441474715
 ],
 "stdvValues": [
  1.7123840517879
 ],
 "hasMultidimensions": false,
 "pixelSizeX": 100,
 "pixelSizeY": 100,
 "meanPixelSize": 100,
 "datasetFormat": "TIFF",
 "uncompressedSize": 496168,
 "blockWidth": 128,
 "blockHeight": 128,
 "compressionType": "None",
 "bandNames": [
  "Band_1"
 ],
 "allowCopy": true,
 "allowAnalysis": true,
 "itemAccess": false,
 "inspectionCapabilities": "",
 "noDataValue": -3.4028234663852886E38,
 "noDataValues": [
  -3.4028234663852886E38
 ],
 "minPixelSize": 0,
 "maxPixelSize": 0,
 "copyrightText": "",
 "serviceDataType": "esriImageServiceDataTypeGeneric",
 "serviceSourceType": "esriImageServiceSourceTypeDataset",
 "objectIdField": "",
 "fields": [],
 "capabilities": "Image,Metadata,Mensuration",
 "defaultMosaicMethod": "Center",
 "allowedMosaicMethods": "",
 "sortField": "",
 "sortValue": null,
 "sortAscending": true,
 "mosaicOperator": "First",
 "defaultCompressionQuality": 75,
 "defaultResamplingMethod": "Bilinear",
 "maxImageHeight": 4100,
 "maxImageWidth": 15000,
 "allowRasterFunction": true,
 "rasterFunctionInfos": [
  {
   "name": "None",
   "description": "",
   "help": ""
  }
 ],
 "rasterTypeInfos": [
  {
   "name": "Raster Dataset",
   "description": "Supports all ArcGIS Raster Datasets",
   "help": ""
  }
 ],
 "mensurationCapabilities": "Basic",
 "hasHistograms": true,
 "hasColormap": false,
 "hasRasterAttributeTable": false,
 "minScale": 0,
 "maxScale": 0,
 "exportTilesAllowed": false,
 "supportsStatistics": false,
 "supportsAdvancedQueries": false,
 "editFieldsInfo": null,
 "ownershipBasedAccessControlForRasters": null,
 "allowComputeTiePoints": false,
 "useStandardizedQueries": true,
 "advancedQueryCapabilities": {
  "useStandardizedQueries": true,
  "supportsStatistics": false,
  "supportsOrderBy": false,
  "supportsDistinct": false,
  "supportsPagination": false
 },
 "spatialReference": {
  "wkid": 102190,
  "latestWkid": 3005
 }
}
