{
 "currentVersion": 11.3,
 "serviceDescription": "1647_1/STOLO_ASPECT_5m_tif",
 "name": "1647_1/STOLO_ASPECT_5m_tif",
 "description": "",
 "extent": {
  "xmin": 1302033,
  "ymin": 451860.74,
  "xmax": 1343033,
  "ymax": 473590.74,
  "spatialReference": {
   "wkid": 102190,
   "latestWkid": 3005
  }
 },
 "initialExtent": {
  "xmin": 1302033,
  "ymin": 451860.74,
  "xmax": 1343033,
  "ymax": 473590.74,
  "spatialReference": {
   "wkid": 102190,
   "latestWkid": 3005
  }
 },
 "fullExtent": {
  "xmin": 1302033,
  "ymin": 451860.74,
  "xmax": 1343033,
  "ymax": 473590.74,
  "spatialReference": {
   "wkid": 102190,
   "latestWkid": 3005
  }
 },
 "sortableFields": "",
 "bandCount": 1,
 "pixelType": "F32",
 "minValues": [
  -1
 ],
 "maxValues": [
  359.99984741211
 ],
 "meanValues": [
  184.80339121795
 ],
 "stdvValues": [
  104.76629502911
 ],
 "hasMultidimensions": false,
 "pixelSizeX": 5,
 "pixelSizeY": 5,
 "meanPixelSize": 5,
 "datasetFormat": "TIFF",
 "uncompressedSize": 142548800,
 "blockWidth": 128,
 "blockHeight": 128,
 "compressionType": "None",
 "bandNames": [
  "Band_1"
 ],
 "allowCopy": true,
 "allowAnalysis": true,
 "itemAccess": false,
 "inspectionCapabilities": "",
 "noDataValue": 3.3999999521443642E38,
 "noDataValues": [
  3.3999999521443642E38
 ],
 "minPixelSize": 0,
 "maxPixelSize": 0,
 "copyrightText": "",
 "serviceDataType": "esriImageServiceDataTypeGeneric",
 "serviceSourceType": "esriImageServiceSourceTypeDataset",
 "objectIdField": "",
 "fields": [],
 "capabilities": "Image,Metadata,Mensuration",
 "defaultMosaicMethod": "Center",
 "allowedMosaicMethods": "",
 "sortField": "",
 "sortValue": null,
 "sortAscending": true,
 "mosaicOperator": "First",
 "defaultCompressionQuality": 75,
 "defaultResamplingMethod": "Bilinear",
 "maxImageHeight": 4100,
 "maxImageWidth": 15000,
 "allowRasterFunction": true,
 "rasterFunctionInfos": [
  {
   "name": "None",
   "description": "",
   "help": ""
  }
 ],
 "rasterTypeInfos": [
  {
   "name": "Raster Dataset",
   "description": "Supports all ArcGIS Raster Datasets",
   "help": ""
  }
 ],
 "mensurationCapabilities": "Basic",
 "hasHistograms": true,
 "hasColormap": false,
 "hasRasterAttributeTable": false,
 "minScale": 0,
 "maxScale": 0,
 "exportTilesAllowed": false,
 "supportsStatistics": false,
 "supportsAdvancedQueries": false,
 "editFieldsInfo": null,
 "ownershipBasedAccessControlForRasters": null,
 "allowComputeTiePoints": false,
 "useStandardizedQueries": true,
 "advancedQueryCapabilities": {
  "useStandardizedQueries": true,
  "supportsStatistics": false,
  "supportsOrderBy": false,
  "supportsDistinct": false,
  "supportsPagination": false
 },
 "spatialReference": {
  "wkid": 102190,
  "latestWkid": 3005
 }
}
